BEGIN:VCALENDAR
VERSION:2.0
PRODID:-//www.maryjowegnerarboretum.com//NONSGML kigkonsult.se iCalcreator 
 2.30.10//
CALSCALE:GREGORIAN
METHOD:PUBLISH
UID:a18399ba-bbfa-40cb-a42c-1a7bc06363ad
X-WR-CALDESC:GARDEN INSECT IDENTIFICATION AND MANAGEMENT TIPS\n\nThis class
  supports programming at the Mary Jo Wegner Arboretum and is offered in co
 njunction with the Minnehaha Master Gardeners of South Dakota.\n\nMaster G
 ardener Jerry Mills\n\nWhat's bugging your garden? \nIf possible\, bring i
 t to this class for identification and discussion. If that's not possible\
 , bring a good description of the insect and the damage it may be causing.
  \n\nThere are many types of insects: The Good\, The Bad and The Ugly. Com
 e and learn about each. Insect management tips will be discussed.\n
X-WR-RELCALID:31ad04244ad0d1106b278bd64836584c
X-WR-TIMEZONE:America/Chicago
BEGIN:VTIMEZONE
TZID:America/Chicago
BEGIN:STANDARD
TZNAME:CST
DTSTART:20221106T020000
TZOFFSETFROM:-0500
TZOFFSETTO:-0600
RDATE:20231105T020000
RDATE:20241103T020000
END:STANDARD
BEGIN:DAYLIGHT
TZNAME:CDT
DTSTART:20230312T020000
TZOFFSETFROM:-0600
TZOFFSETTO:-0500
RDATE:20240310T020000
END:DAYLIGHT
END:VTIMEZONE
BEGIN:VEVENT
UID:ca9b52cf-d5b5-49a5-b54e-93108c9516c7
DTSTAMP:20260423T230458Z
DESCRIPTION:GARDEN INSECT IDENTIFICATION AND MANAGEMENT TIPS\n\nThis class 
 supports programming at the Mary Jo Wegner Arboretum and is offered in con
 junction with the Minnehaha Master Gardeners of South Dakota.\n\nMaster Ga
 rdener Jerry Mills\n\nWhat's bugging your garden? \nIf possible\, bring it
  to this class for identification and discussion. If that's not possible\,
  bring a good description of the insect and the damage it may be causing. 
 \n\nThere are many types of insects: The Good\, The Bad and The Ugly. Come
  and learn about each. Insect management tips will be discussed.\n
DTSTART;TZID=America/Chicago:20230825T180000
DTEND;TZID=America/Chicago:20230825T193000
LOCATION:1900 S. Perry Place\, Sioux Falls\, SD 57110 US
SUMMARY:BUG OUT!
END:VEVENT
END:VCALENDAR
