BEGIN:VCALENDAR
VERSION:2.0
PRODID:-//www.maryjowegnerarboretum.com//NONSGML kigkonsult.se iCalcreator 
 2.30.10//
CALSCALE:GREGORIAN
METHOD:PUBLISH
UID:6942e7f8-edd4-4567-bd84-2f96adf8aa7a
X-WR-CALDESC:This class supports programming at the Mary Jo Wegner Arboretu
 m and is offered in conjunction with the Minnehaha Master Gardeners of Sou
 th Dakota. Check back for more information!\n\nMaster Gardener Debi Ullrey
 -Crosby
X-WR-RELCALID:ab079047a01521b76fa8a5bd1325337c
X-WR-TIMEZONE:America/Chicago
BEGIN:VTIMEZONE
TZID:America/Chicago
BEGIN:STANDARD
TZNAME:CST
DTSTART:20221106T020000
TZOFFSETFROM:-0500
TZOFFSETTO:-0600
RDATE:20231105T020000
RDATE:20241103T020000
END:STANDARD
BEGIN:DAYLIGHT
TZNAME:CDT
DTSTART:20230312T020000
TZOFFSETFROM:-0600
TZOFFSETTO:-0500
RDATE:20240310T020000
END:DAYLIGHT
END:VTIMEZONE
BEGIN:VEVENT
UID:df62455a-de36-43f7-a6ad-4c7fb675db7b
DTSTAMP:20260423T230304Z
DESCRIPTION:This class supports programming at the Mary Jo Wegner Arboretum
  and is offered in conjunction with the Minnehaha Master Gardeners of Sout
 h Dakota. Check back for more information!\n\nMaster Gardener Debi Ullrey-
 Crosby
DTSTART;TZID=America/Chicago:20230828T180000
DTEND;TZID=America/Chicago:20230828T193000
LOCATION:1900 S. Perry Place\, Sioux Falls\, SD 57110 US
SUMMARY:Seed Saving
END:VEVENT
END:VCALENDAR
