BEGIN:VCALENDAR
VERSION:2.0
PRODID:-//www.maryjowegnerarboretum.com//NONSGML kigkonsult.se iCalcreator 
 2.30.10//
CALSCALE:GREGORIAN
METHOD:PUBLISH
UID:cde4ab7e-09a4-4ef0-a35b-0df2dfaa3a2c
X-WR-CALDESC:This class supports programming at the Mary Jo Wegner Arboretu
 m and is offered in conjunction with the Minnehaha Master Gardeners of Sou
 th Dakota. Please check back or call for more information. \nMaster Garden
 er Jerry Mills
X-WR-RELCALID:4c3696e0682fd50c2d4e0d5f0e4bc698
X-WR-TIMEZONE:America/Chicago
BEGIN:VTIMEZONE
TZID:America/Chicago
BEGIN:STANDARD
TZNAME:CST
DTSTART:20221106T020000
TZOFFSETFROM:-0500
TZOFFSETTO:-0600
RDATE:20231105T020000
RDATE:20241103T020000
END:STANDARD
BEGIN:DAYLIGHT
TZNAME:CDT
DTSTART:20230312T020000
TZOFFSETFROM:-0600
TZOFFSETTO:-0500
RDATE:20240310T020000
END:DAYLIGHT
END:VTIMEZONE
BEGIN:VEVENT
UID:169d8136-cac9-45ef-b9a5-a82bd43d751b
DTSTAMP:20260423T224411Z
DESCRIPTION:This class supports programming at the Mary Jo Wegner Arboretum
  and is offered in conjunction with the Minnehaha Master Gardeners of Sout
 h Dakota. Please check back or call for more information. \nMaster Gardene
 r Jerry Mills
DTSTART;TZID=America/Chicago:20230829T180000
DTEND;TZID=America/Chicago:20230829T193000
LOCATION:1900 S. Perry Place\, Sioux Falls\, SD 57110 US
SUMMARY:Composting
END:VEVENT
END:VCALENDAR
