BEGIN:VCALENDAR
VERSION:2.0
PRODID:-//www.maryjowegnerarboretum.com//NONSGML kigkonsult.se iCalcreator 
 2.30.10//
CALSCALE:GREGORIAN
METHOD:PUBLISH
UID:a267813c-853d-4c0e-9de9-bf71fe5474fa
X-WR-CALDESC:Spring is just around the corner! Join chef Tina Kuehn for a m
 eal that perfectly straddles the line between the cold days of winter and 
 that highly anticipated spring thaw.\n\nMenu:\n\nGarlic parmesan bread kno
 ts\n\nRoasted balsamic asparagus salad\n\nBarbecue shrimp with cheesy grit
 s\n\nPavlova with fruit\n\nRecipes will be provided. Enjoy a complimentary
  glass of wine paired for the selections!\n\n• Learn essential cooking tec
 hniques for each dish.\n• Discover tips and tricks for creating a beautifu
 l presentation.\n• Gain confidence in your culinary skills.\n• Receive the
  recipes to recreate the magic at home.\n\nThis class is for:\n\nCouples l
 ooking to spice up their date nights.\nFriends seeking a fun and interacti
 ve cooking experience.\nAnyone who wants to impress their loved ones with 
 a delicious meal!\n\nBook your spot today and get ready to create a truly 
 unforgettable dining experience!\n\nKristina Kuehn is a graduate of the Ca
 lifornia Culinary Academy and has been cooking in Sioux Falls for over 30 
 years. She owned Kristina's Cafe & Bakery\, Cafe334\, and K restaurant.\n
X-WR-RELCALID:c4a612e4a399bdca98bf67935fa6494e
X-WR-TIMEZONE:America/Chicago
BEGIN:VTIMEZONE
TZID:America/Chicago
BEGIN:STANDARD
TZNAME:CST
DTSTART:20241103T020000
TZOFFSETFROM:-0500
TZOFFSETTO:-0600
RDATE:20251102T020000
END:STANDARD
BEGIN:DAYLIGHT
TZNAME:CDT
DTSTART:20250309T020000
TZOFFSETFROM:-0600
TZOFFSETTO:-0500
RDATE:20260308T020000
END:DAYLIGHT
END:VTIMEZONE
BEGIN:VEVENT
UID:aefb1acc-fd4b-4dba-a997-498ae6c92b2d
DTSTAMP:20260422T120828Z
DESCRIPTION:Spring is just around the corner! Join chef Tina Kuehn for a me
 al that perfectly straddles the line between the cold days of winter and t
 hat highly anticipated spring thaw.\n\nMenu:\n\nGarlic parmesan bread knot
 s\n\nRoasted balsamic asparagus salad\n\nBarbecue shrimp with cheesy grits
 \n\nPavlova with fruit\n\nRecipes will be provided. Enjoy a complimentary 
 glass of wine paired for the selections!\n\n• Learn essential cooking tech
 niques for each dish.\n• Discover tips and tricks for creating a beautiful
  presentation.\n• Gain confidence in your culinary skills.\n• Receive the 
 recipes to recreate the magic at home.\n\nThis class is for:\n\nCouples lo
 oking to spice up their date nights.\nFriends seeking a fun and interactiv
 e cooking experience.\nAnyone who wants to impress their loved ones with a
  delicious meal!\n\nBook your spot today and get ready to create a truly u
 nforgettable dining experience!\n\nKristina Kuehn is a graduate of the Cal
 ifornia Culinary Academy and has been cooking in Sioux Falls for over 30 y
 ears. She owned Kristina's Cafe & Bakery\, Cafe334\, and K restaurant.\n
DTSTART;TZID=America/Chicago:20250320T180000
DTEND;TZID=America/Chicago:20250320T200000
LOCATION:1900 S. Perry Place\, Sioux Falls\, SD 57110 US
SUMMARY:Tina Kuehn Cooking
END:VEVENT
END:VCALENDAR
