BEGIN:VCALENDAR
VERSION:2.0
PRODID:-//www.maryjowegnerarboretum.com//NONSGML kigkonsult.se iCalcreator 
 2.30.10//
CALSCALE:GREGORIAN
METHOD:PUBLISH
UID:0a28e1e4-e9cd-478d-8f28-65980ef1ed3b
X-WR-CALDESC:The Mary Jo Wegner Arboretum is partnering with the Minnehaha 
 County Master Gardeners to bring you Vegetable Gardening 101. Set yourself
  up for a successful vegetable garden. Begin with the plentiful answers fr
 om Master Gardeners\, Jerry Mills and Sarah Linneman. Together\, you will 
 get your hands dirty and learn a comprehensive foundation of vegetable gar
 dening.\n\nWelcome Minnehaha Master Gardeners! \n\nTake each class individ
 ually\, or take all 4 weeks of focused know-how so you can hit the ground 
 growing!\n\nVEGETABLE GARDENING\n\nSession 1\, April 8 The DIRT: Selecting
  the Location and Type of Garden. Garden Alternatives.\nSession 2\, April 
 15 The PLOT: Planting the Garden\, Selecting Seeds and Transplants.\nSessi
 on 3\, April 22 Too MULCH H2O: Management: Watering\, mulch\, compost\, ha
 rvest and more.\nSession 4\, April 29 What could possibly go wrong? Insect
 s\, Diseases\, Fertilizers and Deeper Dive into Soils.\nQuestion and answe
 r exchange is welcome and encouraged at each session.
X-WR-RELCALID:6179b035dd43ec81511bc45a66a79bda
X-WR-TIMEZONE:America/Chicago
BEGIN:VTIMEZONE
TZID:America/Chicago
BEGIN:STANDARD
TZNAME:CST
DTSTART:20241103T020000
TZOFFSETFROM:-0500
TZOFFSETTO:-0600
RDATE:20251102T020000
END:STANDARD
BEGIN:DAYLIGHT
TZNAME:CDT
DTSTART:20250309T020000
TZOFFSETFROM:-0600
TZOFFSETTO:-0500
RDATE:20260308T020000
END:DAYLIGHT
END:VTIMEZONE
BEGIN:VEVENT
UID:cafd98ea-f65d-4818-bfa9-7d06a1a92943
DTSTAMP:20260422T133811Z
DESCRIPTION:The Mary Jo Wegner Arboretum is partnering with the Minnehaha C
 ounty Master Gardeners to bring you Vegetable Gardening 101. Set yourself 
 up for a successful vegetable garden. Begin with the plentiful answers fro
 m Master Gardeners\, Jerry Mills and Sarah Linneman. Together\, you will g
 et your hands dirty and learn a comprehensive foundation of vegetable gard
 ening.\n\nWelcome Minnehaha Master Gardeners! \n\nTake each class individu
 ally\, or take all 4 weeks of focused know-how so you can hit the ground g
 rowing!\n\nVEGETABLE GARDENING\n\nSession 1\, April 8 The DIRT: Selecting 
 the Location and Type of Garden. Garden Alternatives.\nSession 2\, April 1
 5 The PLOT: Planting the Garden\, Selecting Seeds and Transplants.\nSessio
 n 3\, April 22 Too MULCH H2O: Management: Watering\, mulch\, compost\, har
 vest and more.\nSession 4\, April 29 What could possibly go wrong? Insects
 \, Diseases\, Fertilizers and Deeper Dive into Soils.\nQuestion and answer
  exchange is welcome and encouraged at each session.
DTSTART;TZID=America/Chicago:20250408T180000
DTEND;TZID=America/Chicago:20250408T193000
LOCATION:1900 S. Perry Place\, Sioux Falls\, SD 57110 US
SUMMARY:Vegetable Gardening 101: The DIRT (Copy)
END:VEVENT
END:VCALENDAR
