BEGIN:VCALENDAR
VERSION:2.0
PRODID:-//www.maryjowegnerarboretum.com//NONSGML kigkonsult.se iCalcreator 
 2.30.10//
CALSCALE:GREGORIAN
METHOD:PUBLISH
UID:1c45acc6-db07-48be-962c-76e411b758e1
X-WR-CALDESC:Come join us for our 2025 Arbor Day Celebration! Check out the
  schedule below and get ready for this special day at the Arboretum.\n\n1:
 15- Welcome: Mike Cooper\nMayor's Proclamation: City Council Chair Curt So
 ehl\nTree Talk: Bryan Peterson\, City Forestry\n\n1:30- Activities\nTree E
 ducation Garden and Mayor's Grove dedication\nWoodland Trail and Hydrangea
  Collection walk-- New East Sioux Falls pedestrian bridge open\nTree plant
 ing at Teaching Garden and Woodland Trail\n
X-WR-RELCALID:7b0539096bd25a36a488a7df43c11a00
X-WR-TIMEZONE:America/Chicago
BEGIN:VTIMEZONE
TZID:America/Chicago
BEGIN:STANDARD
TZNAME:CST
DTSTART:20241103T020000
TZOFFSETFROM:-0500
TZOFFSETTO:-0600
RDATE:20251102T020000
END:STANDARD
BEGIN:DAYLIGHT
TZNAME:CDT
DTSTART:20250309T020000
TZOFFSETFROM:-0600
TZOFFSETTO:-0500
RDATE:20260308T020000
END:DAYLIGHT
END:VTIMEZONE
BEGIN:VEVENT
UID:946b36f2-dbd6-4bc4-8a36-f21139cced80
DTSTAMP:20260422T133725Z
DESCRIPTION:Come join us for our 2025 Arbor Day Celebration! Check out the 
 schedule below and get ready for this special day at the Arboretum.\n\n1:1
 5- Welcome: Mike Cooper\nMayor's Proclamation: City Council Chair Curt Soe
 hl\nTree Talk: Bryan Peterson\, City Forestry\n\n1:30- Activities\nTree Ed
 ucation Garden and Mayor's Grove dedication\nWoodland Trail and Hydrangea 
 Collection walk-- New East Sioux Falls pedestrian bridge open\nTree planti
 ng at Teaching Garden and Woodland Trail\n
DTSTART;TZID=America/Chicago:20250425T130000
DTEND;TZID=America/Chicago:20250425T143000
LOCATION:1900 S Perry Place\, Sioux Falls\, SD 57110 US
SUMMARY:Arbor Day Celebration
END:VEVENT
END:VCALENDAR
