BEGIN:VCALENDAR
VERSION:2.0
PRODID:-//www.maryjowegnerarboretum.com//NONSGML kigkonsult.se iCalcreator 
 2.30.10//
CALSCALE:GREGORIAN
METHOD:PUBLISH
UID:76c62e17-6469-4103-b7f2-09035273c3c4
X-WR-CALDESC:
X-WR-RELCALID:e04465967c68bbad32fc6fdbfee8a1aa
X-WR-TIMEZONE:America/Chicago
BEGIN:VTIMEZONE
TZID:America/Chicago
BEGIN:STANDARD
TZNAME:CST
DTSTART:20251102T020000
TZOFFSETFROM:-0500
TZOFFSETTO:-0600
RDATE:20261101T020000
RDATE:20271107T020000
END:STANDARD
BEGIN:DAYLIGHT
TZNAME:CDT
DTSTART:20260308T020000
TZOFFSETFROM:-0600
TZOFFSETTO:-0500
RDATE:20270314T020000
END:DAYLIGHT
END:VTIMEZONE
BEGIN:VEVENT
UID:3f6de587-5c78-4be9-bf03-9a9aa46cf2b3
DTSTAMP:20260425T102949Z
DESCRIPTION:
DTSTART;TZID=America/Chicago:20260624T130000
DTEND;TZID=America/Chicago:20260624T150000
LOCATION:1900 S Perry Place\, Sioux Falls\, SD 57110 US
SUMMARY:Kids R Kids Field Trip
END:VEVENT
END:VCALENDAR
