BEGIN:VCALENDAR
VERSION:2.0
PRODID:-//www.maryjowegnerarboretum.com//NONSGML kigkonsult.se iCalcreator 
 2.30.10//
CALSCALE:GREGORIAN
METHOD:PUBLISH
UID:3801361b-cee4-49f9-8b94-4e0fba9e37cb
X-WR-CALDESC:This class supports programing at the Mary Jo Wegner Arboretum
  and is offered in conjunction with the Minnehaha Master Gardeners of Sout
 h Dakota. Please check back or call for more information. \nMaster Gardene
 r Sarah Linneman
X-WR-RELCALID:0fc45050ae481c1ab5aa11af541b8b42
X-WR-TIMEZONE:America/Chicago
BEGIN:VTIMEZONE
TZID:America/Chicago
BEGIN:STANDARD
TZNAME:CST
DTSTART:20221106T020000
TZOFFSETFROM:-0500
TZOFFSETTO:-0600
RDATE:20231105T020000
RDATE:20241103T020000
END:STANDARD
BEGIN:DAYLIGHT
TZNAME:CDT
DTSTART:20230312T020000
TZOFFSETFROM:-0600
TZOFFSETTO:-0500
RDATE:20240310T020000
END:DAYLIGHT
END:VTIMEZONE
BEGIN:VEVENT
UID:dccc23b4-b586-4f61-a95a-9dbcefee98ea
DTSTAMP:20260423T213230Z
DESCRIPTION:This class supports programing at the Mary Jo Wegner Arboretum 
 and is offered in conjunction with the Minnehaha Master Gardeners of South
  Dakota. Please check back or call for more information. \nMaster Gardener
  Sarah Linneman
DTSTART;TZID=America/Chicago:20230809T180000
DTEND;TZID=America/Chicago:20230809T193000
LOCATION:1900 S. Perry Place\, Sioux Falls\, SD 57110 US
SUMMARY:Growing Garlic
END:VEVENT
END:VCALENDAR
