BEGIN:VCALENDAR
VERSION:2.0
PRODID:-//www.maryjowegnerarboretum.com//NONSGML kigkonsult.se iCalcreator 
 2.30.10//
CALSCALE:GREGORIAN
METHOD:PUBLISH
UID:43c599f6-69a7-4040-9584-d0e4d905b1a2
X-WR-CALDESC:This class supports programming at the Mary Jo Wegner Arboretu
 m and is offered in conjunction with the Minnehaha Master Gardeners of Sou
 th Dakota.\n\nMaster Gardener Jerry Mills\n\nWhat is a weed? \n\nThere are
  many types of weeds- some are serious\, others are simply a nuisance and 
 others are even edible. Regardless\, it seems weeds are everywhere - in yo
 ur garden\, lawn or landscape. Bring a fresh or pressed sample of your mos
 t vexing weed and find out what it really is. Management tips will be disc
 ussed. \n\nFollowing the talk we will take a walk to identify and learn in
 teresting facts about the 'weeds' at the Mary Jo Wegner Arboretum\, in the
  Teaching Garden and along the Sioux River bottom. Dress accordingly and b
 ring your walking stick!
X-WR-RELCALID:a67d3377ee52411325d7abe3edeeb129
X-WR-TIMEZONE:America/Chicago
BEGIN:VTIMEZONE
TZID:America/Chicago
BEGIN:STANDARD
TZNAME:CST
DTSTART:20221106T020000
TZOFFSETFROM:-0500
TZOFFSETTO:-0600
RDATE:20231105T020000
RDATE:20241103T020000
END:STANDARD
BEGIN:DAYLIGHT
TZNAME:CDT
DTSTART:20230312T020000
TZOFFSETFROM:-0600
TZOFFSETTO:-0500
RDATE:20240310T020000
END:DAYLIGHT
END:VTIMEZONE
BEGIN:VEVENT
UID:0e2662a8-3ade-4272-a8bc-42870c201296
DTSTAMP:20260423T211954Z
DESCRIPTION:This class supports programming at the Mary Jo Wegner Arboretum
  and is offered in conjunction with the Minnehaha Master Gardeners of Sout
 h Dakota.\n\nMaster Gardener Jerry Mills\n\nWhat is a weed? \n\nThere are 
 many types of weeds- some are serious\, others are simply a nuisance and o
 thers are even edible. Regardless\, it seems weeds are everywhere - in you
 r garden\, lawn or landscape. Bring a fresh or pressed sample of your most
  vexing weed and find out what it really is. Management tips will be discu
 ssed. \n\nFollowing the talk we will take a walk to identify and learn int
 eresting facts about the 'weeds' at the Mary Jo Wegner Arboretum\, in the 
 Teaching Garden and along the Sioux River bottom. Dress accordingly and br
 ing your walking stick!
DTSTART;TZID=America/Chicago:20230821T180000
DTEND;TZID=America/Chicago:20230821T190000
LOCATION:1900 S. Perry Place\, Sioux Falls\, SD 57110 US
SUMMARY:Weed Identification Talk & Walk
END:VEVENT
END:VCALENDAR
