BEGIN:VCALENDAR
VERSION:2.0
PRODID:-//www.maryjowegnerarboretum.com//NONSGML kigkonsult.se iCalcreator 
 2.30.10//
CALSCALE:GREGORIAN
METHOD:PUBLISH
UID:2b4e06cd-dbde-4a38-adce-5531de453f23
X-WR-CALDESC:Are you getting tired of mowing the grass in your boulevard? D
 o you want to expand your vegetable or flower beds? Your boulevard is just
  waiting for you to fill it with flowers and/or vegetables. \nLearn how to
  successfully design\, and plant your boulevard garden with Cami Jacobsen\
 , SDSU Extension Master Gardener. This class is offered because of a partn
 ership between SDSU Extension and the Mary Jo Wegner Arboretum.
X-WR-RELCALID:66ca3181059549966bfebef12624c185
X-WR-TIMEZONE:America/Chicago
BEGIN:VTIMEZONE
TZID:America/Chicago
BEGIN:STANDARD
TZNAME:CST
DTSTART:20221106T020000
TZOFFSETFROM:-0500
TZOFFSETTO:-0600
RDATE:20231105T020000
RDATE:20241103T020000
END:STANDARD
BEGIN:DAYLIGHT
TZNAME:CDT
DTSTART:20230312T020000
TZOFFSETFROM:-0600
TZOFFSETTO:-0500
RDATE:20240310T020000
END:DAYLIGHT
END:VTIMEZONE
BEGIN:VEVENT
UID:2f4904e2-56bc-4c60-8457-b809317ae5b1
DTSTAMP:20260423T212134Z
DESCRIPTION:Are you getting tired of mowing the grass in your boulevard? Do
  you want to expand your vegetable or flower beds? Your boulevard is just 
 waiting for you to fill it with flowers and/or vegetables. \nLearn how to 
 successfully design\, and plant your boulevard garden with Cami Jacobsen\,
  SDSU Extension Master Gardener. This class is offered because of a partne
 rship between SDSU Extension and the Mary Jo Wegner Arboretum.
DTSTART;TZID=America/Chicago:20230822T180000
DTEND;TZID=America/Chicago:20230822T193000
LOCATION:1900 S. Perry Place\, Sioux Falls\, SD 57110 US
SUMMARY:Boulevard Gardening
END:VEVENT
END:VCALENDAR
