BEGIN:VCALENDAR
VERSION:2.0
PRODID:-//www.maryjowegnerarboretum.com//NONSGML kigkonsult.se iCalcreator 
 2.30.10//
CALSCALE:GREGORIAN
METHOD:PUBLISH
UID:ed1c3a27-7424-4c1e-b551-0028eec6bdb8
X-WR-CALDESC:This class supports programming at the Mary Jo Wegner Arboretu
 m and is offered in conjunction with the Minnehaha Master Gardeners of Sou
 th Dakota. \n\nMaster Gardener Anne Erickson\n\n“I love sharing my passion
  for gardening with others\, and I especially enjoy sharing tips on how to
  grow roses in cold climates.” \n\nShe would like to reassure anyone inter
 ested in growing roses that it is not that difficult and that the rewards 
 are worth the effort! \n\nThe hand-out Anne will be using  was co-authored
  by one of her fellow Master gardeners\, Maggie Jacobsen.\n\nAnn has been 
 an active SDSU affiliated Minnehaha Master Gardener for twenty years. Duri
 ng that time she has been chairperson for the garden tours and has volunte
 ered for many other events that the Master Gardeners sponsor.
X-WR-RELCALID:0a38979347ffed99aad0f26fb88c13b6
X-WR-TIMEZONE:America/Chicago
BEGIN:VTIMEZONE
TZID:America/Chicago
BEGIN:STANDARD
TZNAME:CST
DTSTART:20231105T020000
TZOFFSETFROM:-0500
TZOFFSETTO:-0600
RDATE:20241103T020000
END:STANDARD
BEGIN:DAYLIGHT
TZNAME:CDT
DTSTART:20240310T020000
TZOFFSETFROM:-0600
TZOFFSETTO:-0500
RDATE:20250309T020000
END:DAYLIGHT
END:VTIMEZONE
BEGIN:VEVENT
UID:9ae40c77-7672-413c-8174-06cc67bf9d26
DTSTAMP:20260423T212434Z
DESCRIPTION:This class supports programming at the Mary Jo Wegner Arboretum
  and is offered in conjunction with the Minnehaha Master Gardeners of Sout
 h Dakota. \n\nMaster Gardener Anne Erickson\n\n“I love sharing my passion 
 for gardening with others\, and I especially enjoy sharing tips on how to 
 grow roses in cold climates.” \n\nShe would like to reassure anyone intere
 sted in growing roses that it is not that difficult and that the rewards a
 re worth the effort! \n\nThe hand-out Anne will be using  was co-authored 
 by one of her fellow Master gardeners\, Maggie Jacobsen.\n\nAnn has been a
 n active SDSU affiliated Minnehaha Master Gardener for twenty years. Durin
 g that time she has been chairperson for the garden tours and has voluntee
 red for many other events that the Master Gardeners sponsor.
DTSTART;TZID=America/Chicago:20240409T180000
DTEND;TZID=America/Chicago:20240409T193000
LOCATION:1900 S. Perry Place\, Sioux Falls\, SD 57110 US
SUMMARY:Growing Roses in Northern Climates
END:VEVENT
END:VCALENDAR
