BEGIN:VCALENDAR
VERSION:2.0
PRODID:-//www.maryjowegnerarboretum.com//NONSGML kigkonsult.se iCalcreator 
 2.30.10//
CALSCALE:GREGORIAN
METHOD:PUBLISH
UID:e0e86196-73f0-4316-b780-7cbf43821f4d
X-WR-CALDESC:The Mary Jo Wegner Arboretum is partnering with the Minnehaha 
 County Master Gardeners to bring you Vegetable Gardening 101. Set yourself
  up for a successful vegetable garden. Begin with the plentiful answers fr
 om Master Gardeners\, Jerry Mills and Sarah Linneman. Together\, you will 
 get your hands dirty and learn a comprehensive foundation of vegetable gar
 dening.\n\nWelcome Minnehaha Master Gardeners! Submit the code for free ad
 mittance. Mary Jo Wegner Arboretum Members receive a $10 discount. If you 
 have not received your discount code contact Natalie\, or call our office.
 \n\nTake each class individually\, or take all 4 weeks of focused know-how
  so you can hit the ground growing!\n\nVEGETABLE GARDENING\n\nSession 1\, 
 April 11: Selecting the Location and Type of Garden. Garden Alternatives.
 \nSession 2\, April 18: Planting the Garden\, Selecting Seeds and Transpla
 nts.\nSession 3\, April 25: Management: watering\, mulch\, compost\, harve
 st and more.\nSession 4\, May 2: What could possibly go wrong? Insects\, D
 iseases\, Fertilizers and Deeper Dive into Soils.\nQuestion and answer exc
 hange is welcome and encouraged at each session.
X-WR-RELCALID:484a901166494fbca80652dd88ee702d
X-WR-TIMEZONE:America/Chicago
BEGIN:VTIMEZONE
TZID:America/Chicago
BEGIN:STANDARD
TZNAME:CST
DTSTART:20231105T020000
TZOFFSETFROM:-0500
TZOFFSETTO:-0600
RDATE:20241103T020000
END:STANDARD
BEGIN:DAYLIGHT
TZNAME:CDT
DTSTART:20240310T020000
TZOFFSETFROM:-0600
TZOFFSETTO:-0500
RDATE:20250309T020000
END:DAYLIGHT
END:VTIMEZONE
BEGIN:VEVENT
UID:48c48016-66eb-40e6-bd7b-dea6d1db6845
DTSTAMP:20260423T212333Z
DESCRIPTION:The Mary Jo Wegner Arboretum is partnering with the Minnehaha C
 ounty Master Gardeners to bring you Vegetable Gardening 101. Set yourself 
 up for a successful vegetable garden. Begin with the plentiful answers fro
 m Master Gardeners\, Jerry Mills and Sarah Linneman. Together\, you will g
 et your hands dirty and learn a comprehensive foundation of vegetable gard
 ening.\n\nWelcome Minnehaha Master Gardeners! Submit the code for free adm
 ittance. Mary Jo Wegner Arboretum Members receive a $10 discount. If you h
 ave not received your discount code contact Natalie\, or call our office.
 \n\nTake each class individually\, or take all 4 weeks of focused know-how
  so you can hit the ground growing!\n\nVEGETABLE GARDENING\n\nSession 1\, 
 April 11: Selecting the Location and Type of Garden. Garden Alternatives.
 \nSession 2\, April 18: Planting the Garden\, Selecting Seeds and Transpla
 nts.\nSession 3\, April 25: Management: watering\, mulch\, compost\, harve
 st and more.\nSession 4\, May 2: What could possibly go wrong? Insects\, D
 iseases\, Fertilizers and Deeper Dive into Soils.\nQuestion and answer exc
 hange is welcome and encouraged at each session.
DTSTART;TZID=America/Chicago:20240411T180000
DTEND;TZID=America/Chicago:20240411T193000
LOCATION:1900 S. Perry Place\, Sioux Falls\, SD 57110 US
SUMMARY:Vegetable Gardening 101: Session 1
END:VEVENT
END:VCALENDAR
