BEGIN:VCALENDAR
VERSION:2.0
PRODID:-//www.maryjowegnerarboretum.com//NONSGML kigkonsult.se iCalcreator 
 2.30.10//
CALSCALE:GREGORIAN
METHOD:PUBLISH
UID:d5ee282b-4679-4d4d-8d42-7f1b883d23eb
X-WR-CALDESC:
X-WR-RELCALID:2002a694fd1c376c94554abb181151a6
X-WR-TIMEZONE:America/Chicago
BEGIN:VTIMEZONE
TZID:America/Chicago
BEGIN:STANDARD
TZNAME:CST
DTSTART:20231105T020000
TZOFFSETFROM:-0500
TZOFFSETTO:-0600
RDATE:20241103T020000
RDATE:20251102T020000
END:STANDARD
BEGIN:DAYLIGHT
TZNAME:CDT
DTSTART:20240310T020000
TZOFFSETFROM:-0600
TZOFFSETTO:-0500
RDATE:20250309T020000
END:DAYLIGHT
END:VTIMEZONE
BEGIN:VEVENT
UID:cec05d76-7b06-4923-9d7a-cfec1f00d8cb
DTSTAMP:20260424T131458Z
DESCRIPTION:
DTSTART;TZID=America/Chicago:20240626T090000
DTEND;TZID=America/Chicago:20240626T120000
LOCATION:
SUMMARY:Camp WILD! Guest DAY  REGISTRATION prorated
END:VEVENT
END:VCALENDAR
